BEGIN:VCALENDAR
VERSION:2.0
PRODID:-//Freemason - ECPv4.6.10.1//NONSGML v1.0//EN
CALSCALE:GREGORIAN
METHOD:PUBLISH
X-WR-CALNAME:Freemason
X-ORIGINAL-URL:https://lodgereynell243.com.au
X-WR-CALDESC:Events for Freemason
BEGIN:VEVENT
DTSTART;TZID=UTC+0:20181119T183000
DTEND;TZID=UTC+0:20181119T230000
DTSTAMP:20200301T150409
CREATED:20180111T123432Z
LAST-MODIFIED:20180113T144805Z
UID:6243-1542652200-1542668400@lodgereynell243.com.au
SUMMARY:Third Degree Raising
DESCRIPTION:Raising one of our Fellow Craft (Bro. Giannakoureas) to the Third Degree Master Mason \n\n3rd Degree Ritual is for Freemason members only.\nGuest Brethren welcome cost $30 2 course meal including first drinks.\nProspective candidates may attend the festive board (dinner) from 8:30pm\nIf you wish to attend please contact us to book in.\n\n
URL:https://lodgereynell243.com.au/single-event/third-degree-raising-2/
LOCATION:14 Bridge St\, Reynella SA 5161\, Australia.\, Reynella\, South Australia\, 5161\, Australia
CATEGORIES:Private,Public
ATTACH;FMTTYPE=image/jpeg:https://lodgereynell243.com.au/wp-content/uploads/2018/01/master-mason.jpg
ORGANIZER;CN="Bob%20Giles":MAILTO:info@lodgereynell243.com.au
END:VEVENT
END:VCALENDAR