BEGIN:VCALENDAR
VERSION:2.0
PRODID:-//Freemason - ECPv4.6.10.1//NONSGML v1.0//EN
CALSCALE:GREGORIAN
METHOD:PUBLISH
X-WR-CALNAME:Freemason
X-ORIGINAL-URL:https://lodgereynell243.com.au
X-WR-CALDESC:Events for Freemason
BEGIN:VEVENT
DTSTART;TZID=UTC+0:20180124T193000
DTEND;TZID=UTC+0:20180124T230000
DTSTAMP:20200301T150218
CREATED:20180111T135234Z
LAST-MODIFIED:20180113T153224Z
UID:6257-1516822200-1516834800@lodgereynell243.com.au
SUMMARY:Lodge of St John at Strathalbyn
DESCRIPTION:Twinning ceremony at the Lodge of St John at Strathalbyn on Wednesday 24th January. \nThe lodge tyles at 7.30pm and I hope that most of our members will be able to attend.  \n
URL:https://lodgereynell243.com.au/single-event/lodge-of-st-john-at-strathalbyn/
LOCATION:3 Dawson Street\, Strathalbyn\, South Australia\, 5255\, Australia
CATEGORIES:Craft,Private,Public
ATTACH;FMTTYPE=image/jpeg:https://lodgereynell243.com.au/wp-content/uploads/2018/01/lodge-strath.jpg
END:VEVENT
END:VCALENDAR