BEGIN:VCALENDAR
VERSION:2.0
PRODID:-//192.185.91.181//NONSGML kigkonsult.se iCalcreator 2.20//
CALSCALE:GREGORIAN
METHOD:PUBLISH
X-WR-CALNAME:Freemason
X-WR-CALDESC:“Fellowship with the Brethren”.
X-FROM-URL:https://lodgereynell243.com.au
X-WR-TIMEZONE:Atlantic/Azores
BEGIN:VTIMEZONE
TZID:Atlantic/Azores
X-LIC-LOCATION:Atlantic/Azores
BEGIN:STANDARD
DTSTART:20191027T010000
TZOFFSETFROM:+0000
TZOFFSETTO:-0100
TZNAME:-01
END:STANDARD
BEGIN:DAYLIGHT
DTSTART:20200329T000000
TZOFFSETFROM:-0100
TZOFFSETTO:+0000
TZNAME:+00
END:DAYLIGHT
END:VTIMEZONE
BEGIN:VEVENT
UID:ai1ec-6464@lodgereynell243.com.au
DTSTAMP:20200301T152209Z
CATEGORIES:
CONTACT:Bob Giles\; 0416 144 793\; info@lodgereynell243.com.au
DESCRIPTION:Lodge Installation:\n\n17th September 2018\nLodge Reynell\nTile
 s at 5:45
DTSTART;TZID=Atlantic/Azores:20180917T174500
DTEND;TZID=Atlantic/Azores:20180917T210000
GEO:-35.089103;+138.539301
LOCATION:Lodge Reynell @ 14 Bridge St\, Old Reynella SA 5161\, Australia
SEQUENCE:0
SUMMARY:Installation
URL:https://lodgereynell243.com.au/event/installation/
X-COST-TYPE:free
X-ALT-DESC;FMTTYPE=text/html:<!DOCTYPE HTML PUBLIC '-//W3C//DTD HTML 3.2//E
 N'>\\n<HTML>\\n<HEAD>\\n<TITLE></TITLE>\\n</HEAD>\\n<BODY><p>Lodge Install
 ation:</p>\n<ul>\n<li>17th September 2018</li>\n<li>Lodge Reynell</li>\n<l
 i>Tiles at 5:45</li>\n</ul>\n</BODY></HTML>
END:VEVENT
END:VCALENDAR
